BEGIN:VCALENDAR
VERSION:2.0
PRODID:-//Peeplcoach - ECPv6.15.16//NONSGML v1.0//EN
CALSCALE:GREGORIAN
METHOD:PUBLISH
X-ORIGINAL-URL:https://peeplcoach.com
X-WR-CALDESC:Events for Peeplcoach
REFRESH-INTERVAL;VALUE=DURATION:PT1H
X-Robots-Tag:noindex
X-PUBLISHED-TTL:PT1H
BEGIN:VTIMEZONE
TZID:Australia/Melbourne
BEGIN:STANDARD
TZOFFSETFROM:+1100
TZOFFSETTO:+1000
TZNAME:AEST
DTSTART:20250405T160000
END:STANDARD
BEGIN:DAYLIGHT
TZOFFSETFROM:+1000
TZOFFSETTO:+1100
TZNAME:AEDT
DTSTART:20251004T160000
END:DAYLIGHT
BEGIN:STANDARD
TZOFFSETFROM:+1100
TZOFFSETTO:+1000
TZNAME:AEST
DTSTART:20260404T160000
END:STANDARD
BEGIN:DAYLIGHT
TZOFFSETFROM:+1000
TZOFFSETTO:+1100
TZNAME:AEDT
DTSTART:20261003T160000
END:DAYLIGHT
BEGIN:STANDARD
TZOFFSETFROM:+1100
TZOFFSETTO:+1000
TZNAME:AEST
DTSTART:20270403T160000
END:STANDARD
BEGIN:DAYLIGHT
TZOFFSETFROM:+1000
TZOFFSETTO:+1100
TZNAME:AEDT
DTSTART:20271002T160000
END:DAYLIGHT
END:VTIMEZONE
BEGIN:VEVENT
DTSTART;TZID=Australia/Melbourne:20260602T100000
DTEND;TZID=Australia/Melbourne:20260602T160000
DTSTAMP:20260423T004157
CREATED:20251204T225711Z
LAST-MODIFIED:20260316T011839Z
UID:10000037-1780394400-1780416000@peeplcoach.com
SUMMARY:Leadership Collective: Communicating & Presenting with Impact
DESCRIPTION:Great ideas only create impact when they’re communicated with clarity\, confidence\, and purpose. Yet many leaders struggle to articulate their message\, adjust to their audience\, or present in a way that truly engages others. Poor communication slows teams down\, creates confusion\, and weakens influence.  \nThis workshop gives leaders the tools to communicate with intention—whether in a meeting\, a presentation\, or a high-stakes conversation—so they can inspire action\, build alignment\, and represent their organisation with credibility.  \n Key Learning Outcomes: \n\nBuild strong presentation foundations: structure\, audience\, stories\, and calls to action.\nApply persuasive storytelling to engage and inspire.\nDeliver with confidence\, presence\, and authenticity.\nHandle questions and objections with adaptability and composure.\nCommunicate effectively with diverse stakeholders.\nStrengthen connection with multigenerational audiences through tailored communication. \n\nREGISTER INTEREST FOR THIS WORKSHOP\n﻿﻿﻿
URL:https://peeplcoach.com/event/communicating-presenting-with-impact/
LOCATION:In-Person (Melbourne)\, CBD\, Melbourne\, VIC\, 3000\, Australia
CATEGORIES:In-Person
ATTACH;FMTTYPE=image/jpeg:https://peeplcoach.com/wp-content/uploads/2025/12/BG-3.jpg
END:VEVENT
BEGIN:VEVENT
DTSTART;TZID=Australia/Melbourne:20260610T120000
DTEND;TZID=Australia/Melbourne:20260610T130000
DTSTAMP:20260423T004157
CREATED:20251204T025240Z
LAST-MODIFIED:20251212T032232Z
UID:10000026-1781092800-1781096400@peeplcoach.com
SUMMARY:AI\, People & Productivity: The New Leadership Equation
DESCRIPTION:AI is no longer a future trend—it’s reshaping roles\, workflows and expectations right now. But productivity gains don’t come from technology alone. They come from leaders who understand how AI\, people development and human performance intersect.  \nThis masterclass explores the new leadership equation: how to accelerate productivity without burning out your people\, and how to make AI an enabler\, not a threat.  \nLeaders will learn:\n• The emerging productivity landscape—and what it means for leadership capability\n• How to integrate AI into workflows while preserving trust\, engagement and wellbeing\n• The skills teams must build now to stay competitive\n• How to lead change and reduce fear around technology adoption  \nIf you are unable to attend but are interested in the topic\, please register\, and we will send you the tip sheets and recording to peruse at your convenience.  \nSIGN UP FOR THIS MASTERCLASS\n﻿﻿﻿
URL:https://peeplcoach.com/event/ai-people-productivity-the-new-leadership-equation/
LOCATION:Online
CATEGORIES:Leading Business Series,Online
ATTACH;FMTTYPE=image/png:https://peeplcoach.com/wp-content/uploads/2025/12/15.png
END:VEVENT
END:VCALENDAR