BEGIN:VCALENDAR
VERSION:2.0
PRODID:-//Peeplcoach - ECPv6.15.16//NONSGML v1.0//EN
CALSCALE:GREGORIAN
METHOD:PUBLISH
X-WR-CALNAME:Peeplcoach
X-ORIGINAL-URL:https://peeplcoach.com
X-WR-CALDESC:Events for Peeplcoach
REFRESH-INTERVAL;VALUE=DURATION:PT1H
X-Robots-Tag:noindex
X-PUBLISHED-TTL:PT1H
BEGIN:VTIMEZONE
TZID:Australia/Melbourne
BEGIN:STANDARD
TZOFFSETFROM:+1100
TZOFFSETTO:+1000
TZNAME:AEST
DTSTART:20240406T160000
END:STANDARD
BEGIN:DAYLIGHT
TZOFFSETFROM:+1000
TZOFFSETTO:+1100
TZNAME:AEDT
DTSTART:20241005T160000
END:DAYLIGHT
BEGIN:STANDARD
TZOFFSETFROM:+1100
TZOFFSETTO:+1000
TZNAME:AEST
DTSTART:20250405T160000
END:STANDARD
BEGIN:DAYLIGHT
TZOFFSETFROM:+1000
TZOFFSETTO:+1100
TZNAME:AEDT
DTSTART:20251004T160000
END:DAYLIGHT
BEGIN:STANDARD
TZOFFSETFROM:+1100
TZOFFSETTO:+1000
TZNAME:AEST
DTSTART:20260404T160000
END:STANDARD
BEGIN:DAYLIGHT
TZOFFSETFROM:+1000
TZOFFSETTO:+1100
TZNAME:AEDT
DTSTART:20261003T160000
END:DAYLIGHT
END:VTIMEZONE
BEGIN:VEVENT
DTSTART;TZID=Australia/Melbourne:20250902T100000
DTEND;TZID=Australia/Melbourne:20250902T160000
DTSTAMP:20260420T201513
CREATED:20250626T052215Z
LAST-MODIFIED:20250828T040943Z
UID:10000017-1756807200-1756828800@peeplcoach.com
SUMMARY:Leadership Collective: Interactive Workshop On Creating accountability
DESCRIPTION:With competing priorities and constant pressure\, it’s easy to rush through task-setting and assume expectations are clear. But accountability can’t thrive without clarity. When people don’t understand what’s required\, it leads to frustration\, disengagement\, and missed deadlines for everyone. \nWhen done well\, accountability builds trust\, reduces stress\, and creates a happier\, more productive team. \nIn this interactive workshop\, you’ll explore: \n\nBuilding psychological safety as a foundation\nKey principles for setting and sustaining accountability\nTools for regular check-ins and performance conversations\nHow to set\, communicate\, and manage expectations clearly\nStrategies to reduce friction and achieve sustainable success\n\nLimited spots available — register now to secure your place\, and our team will follow up with the next steps. \nREGISTER INTEREST FOR THIS WORKSHOP\n﻿﻿﻿﻿
URL:https://peeplcoach.com/event/creating-accountability-interactive-workshop/
LOCATION:In-Person (Melbourne)\, CBD\, Melbourne\, VIC\, 3000\, Australia
CATEGORIES:In-Person
ATTACH;FMTTYPE=image/png:https://peeplcoach.com/wp-content/uploads/2025/01/leading-new.png
END:VEVENT
BEGIN:VEVENT
DTSTART;TZID=Australia/Melbourne:20250911T120000
DTEND;TZID=Australia/Melbourne:20250911T130000
DTSTAMP:20260420T201514
CREATED:20241217T161102Z
LAST-MODIFIED:20250813T052337Z
UID:10000010-1757592000-1757595600@peeplcoach.com
SUMMARY:Spotlight: Sales Impact in a Rapidly Changing Marketplace
DESCRIPTION:The pace of change in so many industries is hard to fathom\, so the ability to identify sales opportunities and convert these into results has never been more challenging. With technology\, including AI\, increasing the amount of sales activity across markets\, most sales professionals are likely facing high levels of rejection — or worse still\, ‘ghosting’. This makes resilience a key component of sustainable success. \nPeeplcoach works with sales professionals and sales leaders to drive a disciplined approach to achieving greater results in business growth. \nIn this session\, James Chisholm\, Co-Founder and Lead Coach at Peeplcoach\, will be joined by panellists Alana Brittain\, Director of Restaurants Expansion at Uber Eats Australia\, and Doug Binns\, Ex–Westpac & Honeywell exec\, now Sales & Leadership Coach at Peeplcoach\, to facilitate a robust discussion on sales success for sales professionals and leaders. Alana and Doug bring great levels of sales and leadership experience from diverse organisations — from LinkedIn to Uber and from Westpac to Honeywell\, to name a few. \nThey will discuss and share essential methods and behaviours required for a successful sales professional and leader. \nIf you are unable to attend but interested in the topic\, please register\, and we will send you the case study and recording to peruse at your convenience. \nSIGN UP FOR THIS MASTERCLASS\n﻿
URL:https://peeplcoach.com/event/sales-impact-in-a-rapidly-changing-marketplace/
LOCATION:Online
CATEGORIES:Leading Others Series,Online
ATTACH;FMTTYPE=image/jpeg:https://peeplcoach.com/wp-content/uploads/2024/12/bg-rold-calculator.jpg
END:VEVENT
END:VCALENDAR