BEGIN:VCALENDAR
VERSION:2.0
PRODID:-//Peeplcoach - ECPv6.15.16//NONSGML v1.0//EN
CALSCALE:GREGORIAN
METHOD:PUBLISH
X-WR-CALNAME:Peeplcoach
X-ORIGINAL-URL:https://peeplcoach.com
X-WR-CALDESC:Events for Peeplcoach
REFRESH-INTERVAL;VALUE=DURATION:PT1H
X-Robots-Tag:noindex
X-PUBLISHED-TTL:PT1H
BEGIN:VTIMEZONE
TZID:Australia/Melbourne
BEGIN:STANDARD
TZOFFSETFROM:+1100
TZOFFSETTO:+1000
TZNAME:AEST
DTSTART:20240406T160000
END:STANDARD
BEGIN:DAYLIGHT
TZOFFSETFROM:+1000
TZOFFSETTO:+1100
TZNAME:AEDT
DTSTART:20241005T160000
END:DAYLIGHT
BEGIN:STANDARD
TZOFFSETFROM:+1100
TZOFFSETTO:+1000
TZNAME:AEST
DTSTART:20250405T160000
END:STANDARD
BEGIN:DAYLIGHT
TZOFFSETFROM:+1000
TZOFFSETTO:+1100
TZNAME:AEDT
DTSTART:20251004T160000
END:DAYLIGHT
BEGIN:STANDARD
TZOFFSETFROM:+1100
TZOFFSETTO:+1000
TZNAME:AEST
DTSTART:20260404T160000
END:STANDARD
BEGIN:DAYLIGHT
TZOFFSETFROM:+1000
TZOFFSETTO:+1100
TZNAME:AEDT
DTSTART:20261003T160000
END:DAYLIGHT
END:VTIMEZONE
BEGIN:VEVENT
DTSTART;TZID=Australia/Melbourne:20251118T100000
DTEND;TZID=Australia/Melbourne:20251118T160000
DTSTAMP:20260421T202838
CREATED:20250626T054148Z
LAST-MODIFIED:20251008T040654Z
UID:10000019-1763460000-1763481600@peeplcoach.com
SUMMARY:Leadership Collective: Interactive Workshop On Building your Coaching and Mentoring Capability
DESCRIPTION:Great leaders don’t just manage—they coach\, mentor\, and guide others to grow.In this practical session\, we’ll explore how to build your capability as a coach and mentor\, so you can better support your team’s development and performance. \nIn this session\, we’ll explore how to:  \n\nStop solving everyone’s problems. Start building a team that solves their own.\nDistinguish between managing\, mentoring\, and coaching\, and confidently switch between all three to bring out the best in your team.\nDiscover and practice proven coaching models you can remember and use in multiple situations.\nBuild your personal toolkit of powerful questions that create accountability\, spark insight\, and drive real results (without you having to have all the answers).\n\nLimited spots available — register now to secure your place\, and our team will follow up with the next steps. \nREGISTER INTEREST FOR THIS WORKSHOP\n﻿﻿﻿﻿
URL:https://peeplcoach.com/event/building-your-coaching-and-mentoring-capability/
LOCATION:In-Person (Melbourne)\, CBD\, Melbourne\, VIC\, 3000\, Australia
CATEGORIES:In-Person
ATTACH;FMTTYPE=image/png:https://peeplcoach.com/wp-content/uploads/2025/01/15.png
END:VEVENT
END:VCALENDAR