BEGIN:VCALENDAR
VERSION:2.0
PRODID:-//Peeplcoach - ECPv6.15.16//NONSGML v1.0//EN
CALSCALE:GREGORIAN
METHOD:PUBLISH
X-ORIGINAL-URL:https://peeplcoach.com
X-WR-CALDESC:Events for Peeplcoach
REFRESH-INTERVAL;VALUE=DURATION:PT1H
X-Robots-Tag:noindex
X-PUBLISHED-TTL:PT1H
BEGIN:VTIMEZONE
TZID:Australia/Melbourne
BEGIN:STANDARD
TZOFFSETFROM:+1100
TZOFFSETTO:+1000
TZNAME:AEST
DTSTART:20240406T160000
END:STANDARD
BEGIN:DAYLIGHT
TZOFFSETFROM:+1000
TZOFFSETTO:+1100
TZNAME:AEDT
DTSTART:20241005T160000
END:DAYLIGHT
BEGIN:STANDARD
TZOFFSETFROM:+1100
TZOFFSETTO:+1000
TZNAME:AEST
DTSTART:20250405T160000
END:STANDARD
BEGIN:DAYLIGHT
TZOFFSETFROM:+1000
TZOFFSETTO:+1100
TZNAME:AEDT
DTSTART:20251004T160000
END:DAYLIGHT
BEGIN:STANDARD
TZOFFSETFROM:+1100
TZOFFSETTO:+1000
TZNAME:AEST
DTSTART:20260404T160000
END:STANDARD
BEGIN:DAYLIGHT
TZOFFSETFROM:+1000
TZOFFSETTO:+1100
TZNAME:AEDT
DTSTART:20261003T160000
END:DAYLIGHT
END:VTIMEZONE
BEGIN:VEVENT
DTSTART;TZID=Australia/Melbourne:20250320T120000
DTEND;TZID=Australia/Melbourne:20250320T130000
DTSTAMP:20260422T035946
CREATED:20241217T155110Z
LAST-MODIFIED:20250611T012338Z
UID:10000005-1742472000-1742475600@peeplcoach.com
SUMMARY:Identifying and Developing your Emerging Leaders
DESCRIPTION:Attracting and keeping top talent isn’t just about perks—it’s about building a workplace where people want to stay. In this masterclass\, hear from senior executives across diverse industries on the importance of differentiating your company in the pursuit and retention of talent. \nHost: James Chisholm\, Co-Founder & Coach\, Peeplcoach\nPanellists: \n\nLisa Whitehead (VP & GM\, Honeywell)\nTom Keller (Global CEO\, MacSteel)\nSacha Leagh-Murray (GM\, Laminex)\n\nJoin us for a candid conversation on the leadership strategies that truly make an impact. Learn practical ways to align your approach and create a team ready for future growth. Don’t miss this chance to hear real-world insights from the top. \nIf you are unable to attend but interested in the topic please register and we will send you the case study and recording to peruse at your convenience. \nSIGN UP FOR THIS MASTERCLASS\n﻿
URL:https://peeplcoach.com/event/identifying-and-developing-your-emerging-leaders/
LOCATION:Online
CATEGORIES:Leading Others Series,Online
ATTACH;FMTTYPE=image/png:https://peeplcoach.com/wp-content/uploads/2024/12/Spotlight-on-Diversity-and-Inclusion.png
END:VEVENT
END:VCALENDAR